BEGIN:VCALENDAR
VERSION:2.0
PRODID:-//Squarespace Inc/Squarespace 6//v6//EN
BEGIN:VEVENT
UID:5a3f5ef49140b75e19730cb9@squarespace.com
DTSTAMP:20171224T092527Z
DTSTART:20171223T220000Z
DTEND:20171224T000000Z
SUMMARY:Christmas Food Drive 2017
END:VEVENT
END:VCALENDAR
