BEGIN:VCALENDAR
VERSION:2.0
PRODID:-//Squarespace Inc/Squarespace 6//v6//EN
BEGIN:VEVENT
UID:5a9be3f8c830255b24545f36@squarespace.com
DTSTAMP:20180304T121826Z
DTSTART:20180324T060000Z
DTEND:20180324T080000Z
SUMMARY:GNFKS Food Drive
END:VEVENT
END:VCALENDAR
