BEGIN:VCALENDAR
VERSION:2.0
PRODID:-//Squarespace Inc/Squarespace 6//v6//EN
BEGIN:VEVENT
UID:5a9be431419202782964db20@squarespace.com
DTSTAMP:20180412T220405Z
DTSTART:20180414T070000Z
DTEND:20180414T090000Z
SUMMARY:GNFKS Baisakhi Food Drive
END:VEVENT
END:VCALENDAR
